BEGIN:VCALENDAR
VERSION:2.0
PRODID:-//Basisschool St. Jan Teralfene - ECPv6.0.10//NONSGML v1.0//EN
CALSCALE:GREGORIAN
METHOD:PUBLISH
X-WR-CALNAME:Basisschool St. Jan Teralfene
X-ORIGINAL-URL:https://sint-jan.be
X-WR-CALDESC:Evenementen voor Basisschool St. Jan Teralfene
REFRESH-INTERVAL;VALUE=DURATION:PT1H
X-Robots-Tag:noindex
X-PUBLISHED-TTL:PT1H
BEGIN:VTIMEZONE
TZID:Europe/Brussels
BEGIN:DAYLIGHT
TZOFFSETFROM:+0100
TZOFFSETTO:+0200
TZNAME:CEST
DTSTART:20250330T010000
END:DAYLIGHT
BEGIN:STANDARD
TZOFFSETFROM:+0200
TZOFFSETTO:+0100
TZNAME:CET
DTSTART:20251026T010000
END:STANDARD
END:VTIMEZONE
BEGIN:VEVENT
DTSTART;TZID=Europe/Brussels:20251212T090000
DTEND;TZID=Europe/Brussels:20251212T120000
DTSTAMP:20260420T000844
CREATED:20250604T094511Z
LAST-MODIFIED:20250604T094511Z
UID:5768-1765530000-1765540800@sint-jan.be
SUMMARY:Proefwerken
DESCRIPTION:Beste ouders\, \nBinnenkort starten de proefwerken voor de leerlingen van de 2de en 3de graad. Tijdens deze periode worden de leerstofonderdelen van de voorbije maanden geëvalueerd. \nDe klasleerkrachten bezorgen tijdig een overzicht van de planning en de te leren leerstof. \nWe wensen alle leerlingen veel succes! \nMet vriendelijke groeten\,Het schoolteam
URL:https://sint-jan.be/evenement/proefwerken-3/
END:VEVENT
BEGIN:VEVENT
DTSTART;TZID=Europe/Brussels:20251211T091500
DTEND;TZID=Europe/Brussels:20251211T143000
DTSTAMP:20260420T000844
CREATED:20251202T145503Z
LAST-MODIFIED:20251203T102410Z
UID:6082-1765444500-1765463400@sint-jan.be
SUMMARY:L6 : Bezoek aan het Leonardocollege in Denderleeuw
DESCRIPTION:Beste ouders\, \nOp donderdag 11 december brengen onze leerlingen een bezoek aan de secundaire school Leonardocollege te Denderleeuw. Tijdens dit bezoek maken de leerlingen kennis met verschillende studierichtingen die de school aanbiedt. \n\nEr zijn die dag GEEN soepen en warme maaltijden mogelijk. Deze worden automatisch geannuleerd.\nVertrek en terugkomst: binnen de normale schooluren.\nVerplaatsing: gebeurt met de bus van de school.\n\nWij kijken ernaar uit om samen met de leerlingen deze kennismaking te beleven. \nMet vriendelijke groeten\,
URL:https://sint-jan.be/evenement/l6-bezoek-aan-het-leonardocollege-in-denderleeuw/
END:VEVENT
BEGIN:VEVENT
DTSTART;TZID=Europe/Brussels:20251211T090000
DTEND;TZID=Europe/Brussels:20251211T120000
DTSTAMP:20260420T000844
CREATED:20250604T085840Z
LAST-MODIFIED:20250604T094433Z
UID:5704-1765443600-1765454400@sint-jan.be
SUMMARY:Proefwerken
DESCRIPTION:Beste ouders\, \nBinnenkort starten de proefwerken voor de leerlingen van de 2de en 3de graad. Tijdens deze periode worden de leerstofonderdelen van de voorbije maanden geëvalueerd. \nDe klasleerkrachten bezorgen tijdig een overzicht van de planning en de te leren leerstof. \nWe wensen alle leerlingen veel succes! \nMet vriendelijke groeten\,Het schoolteam
URL:https://sint-jan.be/evenement/proefwerken/
END:VEVENT
BEGIN:VEVENT
DTSTART;TZID=Europe/Brussels:20251209T130000
DTEND;TZID=Europe/Brussels:20251209T152000
DTSTAMP:20260420T000844
CREATED:20251128T111219Z
LAST-MODIFIED:20251203T101902Z
UID:6066-1765285200-1765293600@sint-jan.be
SUMMARY:L6: NM: Naar de DvM in Aalst
DESCRIPTION:Beste ouders\, \nOp dinsdag 9 december brengen onze leerlingen een bezoek aan de secundaire school Dames van Maria te Aalst. Tijdens dit bezoek maken de leerlingen kennis met verschillende studierichtingen die de school aanbiedt. \n\nVertrek en terugkomst: binnen de normale schooluren.\nKostprijs: €4\,20 voor de verplaatsing\, dit wordt verrekend via de factuur.\n\nWij kijken ernaar uit om samen met de leerlingen deze kennismaking te beleven. \nMet vriendelijke groeten\,
URL:https://sint-jan.be/evenement/l6-nm-naar-de-dvm-in-aalst/
END:VEVENT
BEGIN:VEVENT
DTSTART;TZID=Europe/Brussels:20251208T133000
DTEND;TZID=Europe/Brussels:20251208T143000
DTSTAMP:20260420T000844
CREATED:20250610T133435Z
LAST-MODIFIED:20250610T133435Z
UID:5812-1765200600-1765204200@sint-jan.be
SUMMARY:3de graad: Zwemmen
DESCRIPTION:Beste ouders\, \nIn de namiddag gaan de leerlingen zwemmen. Gelieve zwemgerief (badpak/zwembroek\, handdoek\, eventueel een zwembril) mee te geven met uw kind. \nDe kosten voor het zwemmen worden verrekend via de factuur. \nAlvast bedankt! \nMet vriendelijke groet\,
URL:https://sint-jan.be/evenement/3de-graad-zwemmen-22/
END:VEVENT
BEGIN:VEVENT
DTSTART;TZID=Europe/Brussels:20251205T104000
DTEND;TZID=Europe/Brussels:20251205T122000
DTSTAMP:20260420T000844
CREATED:20251202T144023Z
LAST-MODIFIED:20251202T144023Z
UID:6080-1764931200-1764937200@sint-jan.be
SUMMARY:L6 : Natuurpunt in de klas
DESCRIPTION:
URL:https://sint-jan.be/evenement/l6-natuurpunt-in-de-klas/
END:VEVENT
BEGIN:VEVENT
DTSTART;TZID=Europe/Brussels:20251205T084500
DTEND;TZID=Europe/Brussels:20251205T103000
DTSTAMP:20260420T000844
CREATED:20251202T143953Z
LAST-MODIFIED:20251202T143953Z
UID:6078-1764924300-1764930600@sint-jan.be
SUMMARY:L5: Natuurpunt in de klas
DESCRIPTION:
URL:https://sint-jan.be/evenement/l5-natuurpunt-in-de-klas/
END:VEVENT
BEGIN:VEVENT
DTSTART;TZID=Europe/Brussels:20251201T133000
DTEND;TZID=Europe/Brussels:20251201T143000
DTSTAMP:20260420T000844
CREATED:20250610T133357Z
LAST-MODIFIED:20250610T133357Z
UID:5810-1764595800-1764599400@sint-jan.be
SUMMARY:3de graad: Zwemmen
DESCRIPTION:Beste ouders\, \nIn de namiddag gaan de leerlingen zwemmen. Gelieve zwemgerief (badpak/zwembroek\, handdoek\, eventueel een zwembril) mee te geven met uw kind. \nDe kosten voor het zwemmen worden verrekend via de factuur. \nAlvast bedankt! \nMet vriendelijke groet\,
URL:https://sint-jan.be/evenement/3de-graad-zwemmen-21/
END:VEVENT
BEGIN:VEVENT
DTSTART;TZID=Europe/Brussels:20251127T103000
DTEND;TZID=Europe/Brussels:20251127T112000
DTSTAMP:20260420T000844
CREATED:20250624T081912Z
LAST-MODIFIED:20250624T082315Z
UID:5870-1764239400-1764242400@sint-jan.be
SUMMARY:K3: 10.30u: Voorleesmoment
DESCRIPTION:Beste ouders\, \nVandaag brengen de kleuters van de derde kleuterklas een bezoek aan ’t Gildenhuis voor een gezellig en boeiend voorleesmoment:‘Meester Guy’s Verteltent’. \nDeze activiteit wordt gratis aangeboden door de gemeente en vindt plaats om 10.30 uur.Meester Guy neemt de kinderen mee op een fantasierijke reis vol verhalen en verwondering. \n📍 Locatie: ’t Gildenhuis🕥 Voorstelling: 10.30 uur🎟️ Gratis activiteit \nGelieve ervoor te zorgen dat uw kind op tijd op school is\, zodat we tijdig kunnen vertrekken. \nMet vriendelijke groeten\,
URL:https://sint-jan.be/evenement/k3-10-30u-voorleesmoment/
END:VEVENT
BEGIN:VEVENT
DTSTART;TZID=Europe/Brussels:20251125T153000
DTEND;TZID=Europe/Brussels:20251125T203000
DTSTAMP:20260420T000844
CREATED:20250604T090303Z
LAST-MODIFIED:20250604T090303Z
UID:5710-1764084600-1764102600@sint-jan.be
SUMMARY:K3: oudercontact
DESCRIPTION:Beste ouders\, \nOp dinsdag 25 november organiseren we ons eerste oudercontact van het schooljaar. Tijdens dit gesprek krijgen jullie de kans om samen met de leerkracht de vorderingen van jullie kind te bespreken. \nMeer praktische info over het tijdstip en de inschrijving volgt via de klasleerkracht. \nWe hopen jullie op 25 november te mogen verwelkomen! \nMet vriendelijke groeten\,Het schoolteam
URL:https://sint-jan.be/evenement/k3-oudercontact-2/
END:VEVENT
BEGIN:VEVENT
DTSTART;TZID=Europe/Brussels:20251124T153000
DTEND;TZID=Europe/Brussels:20251124T203000
DTSTAMP:20260420T000844
CREATED:20250604T090213Z
LAST-MODIFIED:20250604T090213Z
UID:5708-1763998200-1764016200@sint-jan.be
SUMMARY:K3: oudercontact
DESCRIPTION:Beste ouders\, \nOp maandag 24 november organiseren we ons eerste oudercontact van het schooljaar. Tijdens dit gesprek krijgen jullie de kans om samen met de leerkracht de vorderingen van jullie kind te bespreken. \nMeer praktische info over het tijdstip en de inschrijving volgt via de klasleerkracht. \nWe hopen jullie op 24 november te mogen verwelkomen! \nMet vriendelijke groeten\,Het schoolteam
URL:https://sint-jan.be/evenement/k3-oudercontact/
END:VEVENT
BEGIN:VEVENT
DTSTART;TZID=Europe/Brussels:20251124T133000
DTEND;TZID=Europe/Brussels:20251124T143000
DTSTAMP:20260420T000844
CREATED:20250610T133309Z
LAST-MODIFIED:20250910T071711Z
UID:5808-1763991000-1763994600@sint-jan.be
SUMMARY:3de graad: Zwemmen
DESCRIPTION:Beste ouders\, \nIn de namiddag gaan de leerlingen zwemmen. Gelieve zwemgerief (badpak/zwembroek\, handdoek\, eventueel een zwembril) mee te geven met uw kind. \nDit kost €6\,42 en wordt verrekend via de factuur. \nAlvast bedankt! \nMet vriendelijke groet\,
URL:https://sint-jan.be/evenement/3de-graad-zwemmen-20/
END:VEVENT
BEGIN:VEVENT
DTSTART;TZID=Europe/Brussels:20251124T084500
DTEND;TZID=Europe/Brussels:20251124T122000
DTSTAMP:20260420T000844
CREATED:20251120T102920Z
LAST-MODIFIED:20251120T102920Z
UID:6041-1763973900-1763986800@sint-jan.be
SUMMARY:K2 + K3 : VM : Rollebolle
DESCRIPTION:Beste ouders\, \nOp 24 november gaan de kleuters deelnemen aan Rollebolle.We vertrekken om 8.45 uur met de auto’s en zullen rond 12.20 uur terug op school zijn. \nGelieve uw kind sportieve kledij aan te doen en sportschoenen zonder zwarte zolen mee te geven.Daarnaast vragen we om een drankje en een fruitje in de boekentas te steken. \nDe kostprijs van deze activiteit bedraagt € 3\,50 en wordt verrekend via de factuur.
URL:https://sint-jan.be/evenement/k2-k3-vm-rollebolle-2/
END:VEVENT
BEGIN:VEVENT
DTSTART;VALUE=DATE:20251121
DTEND;VALUE=DATE:20251122
DTSTAMP:20260420T000844
CREATED:20250604T085601Z
LAST-MODIFIED:20250604T085601Z
UID:5702-1763683200-1763769599@sint-jan.be
SUMMARY:Pedagogische studiedag
DESCRIPTION:
URL:https://sint-jan.be/evenement/pedagogische-studiedag-8/
END:VEVENT
BEGIN:VEVENT
DTSTART;TZID=Europe/Brussels:20251120T083000
DTEND;TZID=Europe/Brussels:20251120T132000
DTSTAMP:20260420T000844
CREATED:20251024T090206Z
LAST-MODIFIED:20251024T090206Z
UID:6016-1763627400-1763644800@sint-jan.be
SUMMARY:L6: Naar het Planetarium
DESCRIPTION:Vandaag gaan de leerlingen in de voormiddag op uitstap naar het Planetarium in Brussel.Gelieve uw kind een lunchpakket mee te geven voor die dag. \nDe kostprijs van de uitstap bedraagt €11\,20 en zal worden verrekend via de schoolfactuur.
URL:https://sint-jan.be/evenement/l6-naar-het-planetarium/
END:VEVENT
BEGIN:VEVENT
DTSTART;TZID=Europe/Brussels:20251119T084500
DTEND;TZID=Europe/Brussels:20251119T122000
DTSTAMP:20260420T000844
CREATED:20251006T130401Z
LAST-MODIFIED:20251006T130401Z
UID:6005-1763541900-1763554800@sint-jan.be
SUMMARY:L2 : Vaccinatie
DESCRIPTION:
URL:https://sint-jan.be/evenement/l2-vaccinatie/
END:VEVENT
BEGIN:VEVENT
DTSTART;TZID=Europe/Brussels:20251118T130000
DTEND;TZID=Europe/Brussels:20251118T152000
DTSTAMP:20260420T000844
CREATED:20250910T072951Z
LAST-MODIFIED:20250910T073030Z
UID:5979-1763470800-1763479200@sint-jan.be
SUMMARY:3de graad: NM: film in CC De Ploter
DESCRIPTION:Beste ouders\, \nOp [datum invullen] gaan de leerlingen van de 3de graad naar CC De Ploter in Ternat om de film Leeuwin te bekijken. \nWe verplaatsen ons met de fiets. Gelieve erop toe te zien dat de fiets van uw kind in orde is (remmen\, lichten\, banden) en dat uw kind een fietshelm draagt. \nPraktisch: \n\n\nVertrek aan de school: 13.00 uur\, er is geen mogelijkheid voor warme maaltijd. \n\n\nTerug op school: 15.20 uur \n\n\n  \nDit bedraagt €3\,50 en wordt verrekend via de factuur. \nMet vriendelijke groeten\,
URL:https://sint-jan.be/evenement/3de-graad-nm-film-in-cc-de-ploter/
END:VEVENT
BEGIN:VEVENT
DTSTART;TZID=Europe/Brussels:20251117T133000
DTEND;TZID=Europe/Brussels:20251117T143000
DTSTAMP:20260420T000844
CREATED:20250610T133151Z
LAST-MODIFIED:20250910T071603Z
UID:5806-1763386200-1763389800@sint-jan.be
SUMMARY:3de graad: Zwemmen
DESCRIPTION:Beste ouders\, \nIn de namiddag gaan de leerlingen zwemmen. Gelieve zwemgerief (badpak/zwembroek\, handdoek\, eventueel een zwembril) mee te geven met uw kind. \nDit kost €6.42 en wordt verrekend via de factuur. \nAlvast bedankt! \nMet vriendelijke groet\,
URL:https://sint-jan.be/evenement/3de-graad-zwemmen-19/
END:VEVENT
BEGIN:VEVENT
DTSTART;VALUE=DATE:20251111
DTEND;VALUE=DATE:20251112
DTSTAMP:20260420T000844
CREATED:20250604T085454Z
LAST-MODIFIED:20250604T085454Z
UID:5700-1762819200-1762905599@sint-jan.be
SUMMARY:Wapenstilstand
DESCRIPTION:
URL:https://sint-jan.be/evenement/wapenstilstand-3/
END:VEVENT
BEGIN:VEVENT
DTSTART;VALUE=DATE:20251110
DTEND;VALUE=DATE:20251111
DTSTAMP:20260420T000844
CREATED:20250604T085419Z
LAST-MODIFIED:20250604T085419Z
UID:5698-1762732800-1762819199@sint-jan.be
SUMMARY:VERLOF
DESCRIPTION:
URL:https://sint-jan.be/evenement/verlof-2/
END:VEVENT
BEGIN:VEVENT
DTSTART;TZID=Europe/Brussels:20251106T094000
DTEND;TZID=Europe/Brussels:20251106T104000
DTSTAMP:20260420T000844
CREATED:20250917T082444Z
LAST-MODIFIED:20250917T082444Z
UID:5982-1762422000-1762425600@sint-jan.be
SUMMARY:KS: Toneel op school
DESCRIPTION:Beste ouders\, \nOp donderdag 6 november krijgen de kinderen op school een bijzondere traktatie: zij mogen genieten van de voorstelling “Heksje Mimi – De musical”. \nDeze vrolijke en magische voorstelling wordt volledig gesponsord door de ouderraad. Dankzij hun steun kunnen de kinderen samen genieten van dit culturele uitstapje\, zonder extra kosten voor de ouders. \nWe kijken ernaar uit om samen met de kinderen een gezellige en betoverende dag te beleven! \nMet vriendelijke groet\,
URL:https://sint-jan.be/evenement/ks-toneel-op-school-3/
END:VEVENT
BEGIN:VEVENT
DTSTART;TZID=Europe/Brussels:20251103T133000
DTEND;TZID=Europe/Brussels:20251103T143000
DTSTAMP:20260420T000844
CREATED:20250610T133108Z
LAST-MODIFIED:20250910T071349Z
UID:5804-1762176600-1762180200@sint-jan.be
SUMMARY:3de graad: Zwemmen
DESCRIPTION:Beste ouders\, \nIn de namiddag gaan de leerlingen zwemmen. Gelieve zwemgerief (badpak/zwembroek\, handdoek\, eventueel een zwembril) mee te geven met uw kind. \nDit kost €6.42 wordt verrekend via de factuur. \nAlvast bedankt! \nMet vriendelijke groet\,
URL:https://sint-jan.be/evenement/3de-graad-zwemmen-18/
END:VEVENT
BEGIN:VEVENT
DTSTART;TZID=Europe/Brussels:20251103T084500
DTEND;TZID=Europe/Brussels:20251103T152500
DTSTAMP:20260420T000844
CREATED:20250604T090452Z
LAST-MODIFIED:20250604T090452Z
UID:5712-1762159500-1762183500@sint-jan.be
SUMMARY:Instapdag voor nieuwe peuters
DESCRIPTION:Beste ouders\, \nBinnenkort verwelkomen we onze nieuwe peuters op hun eerste instapdag. Dit is een belangrijk en spannend moment voor kind én ouder. \nOp deze dag maken de peuters kennis met de juf\, de klasomgeving en de andere kinderen. We zorgen voor een warm en veilig onthaal. \nWe kijken ernaar uit om jullie en jullie kleintje te ontmoeten! \nMet vriendelijke groeten\,Het kleuterteam
URL:https://sint-jan.be/evenement/instapdag-voor-nieuwe-peuters-11/
END:VEVENT
BEGIN:VEVENT
DTSTART;VALUE=DATE:20251025
DTEND;VALUE=DATE:20251103
DTSTAMP:20260420T000844
CREATED:20250604T085219Z
LAST-MODIFIED:20250604T085219Z
UID:5696-1761350400-1762127999@sint-jan.be
SUMMARY:Herfstvakantie
DESCRIPTION:
URL:https://sint-jan.be/evenement/herfstvakantie-5/
END:VEVENT
BEGIN:VEVENT
DTSTART;TZID=Europe/Brussels:20251021T153000
DTEND;TZID=Europe/Brussels:20251021T213000
DTSTAMP:20260420T000844
CREATED:20250604T085057Z
LAST-MODIFIED:20250604T085057Z
UID:5693-1761060600-1761082200@sint-jan.be
SUMMARY:Oudercontact
DESCRIPTION:Beste ouders\, \nOp dinsdag 21 oktober organiseren we ons eerste oudercontact van het schooljaar. Tijdens dit gesprek krijgen jullie de kans om samen met de leerkracht de eerste resultaten en de vorderingen van jullie kind te bespreken. \nMeer praktische info over het tijdstip en de inschrijving volgt via de klasleerkracht. \nWe hopen jullie op 21 oktober te mogen verwelkomen! \nMet vriendelijke groeten\,Het schoolteam
URL:https://sint-jan.be/evenement/oudercontact-2/
END:VEVENT
BEGIN:VEVENT
DTSTART;TZID=Europe/Brussels:20251020T153000
DTEND;TZID=Europe/Brussels:20251020T200000
DTSTAMP:20260420T000844
CREATED:20250604T085005Z
LAST-MODIFIED:20250604T085116Z
UID:5691-1760974200-1760990400@sint-jan.be
SUMMARY:Oudercontact
DESCRIPTION:Beste ouders\, \nOp maandag 20 oktober organiseren we ons eerste oudercontact van het schooljaar. Tijdens dit gesprek krijgen jullie de kans om samen met de leerkracht de eerste resultaten en de vorderingen van jullie kind te bespreken. \nMeer praktische info over het tijdstip en de inschrijving volgt via de klasleerkracht. \nWe hopen jullie op 20 oktober te mogen verwelkomen! \nMet vriendelijke groeten\,Het schoolteam
URL:https://sint-jan.be/evenement/oudercontact/
END:VEVENT
BEGIN:VEVENT
DTSTART;TZID=Europe/Brussels:20251020T133000
DTEND;TZID=Europe/Brussels:20251020T133000
DTSTAMP:20260420T000844
CREATED:20250610T135105Z
LAST-MODIFIED:20250910T071025Z
UID:5832-1760967000-1760967000@sint-jan.be
SUMMARY:2de graad: Zwemmen
DESCRIPTION:Beste ouders\, \nIn de namiddag gaan de leerlingen zwemmen. Gelieve zwemgerief (badpak/zwembroek\, handdoek\, eventueel een zwembril) mee te geven met uw kind. \nDit kost €6\,42 en  wordt verrekend via de factuur. \nAlvast bedankt! \nMet vriendelijke groet\,
URL:https://sint-jan.be/evenement/2de-graad-zwemmen-23/
END:VEVENT
BEGIN:VEVENT
DTSTART;TZID=Europe/Brussels:20251017T090000
DTEND;TZID=Europe/Brussels:20251017T120000
DTSTAMP:20260420T000844
CREATED:20251006T130252Z
LAST-MODIFIED:20251006T130252Z
UID:6003-1760691600-1760702400@sint-jan.be
SUMMARY:K3: VM: Naar het bos
DESCRIPTION:
URL:https://sint-jan.be/evenement/k3-vm-naar-het-bos/
END:VEVENT
BEGIN:VEVENT
DTSTART;TZID=Europe/Brussels:20251016T133000
DTEND;TZID=Europe/Brussels:20251016T152000
DTSTAMP:20260420T000844
CREATED:20250910T070915Z
LAST-MODIFIED:20250910T070915Z
UID:5973-1760621400-1760628000@sint-jan.be
SUMMARY:L4: Vaccinatie
DESCRIPTION:
URL:https://sint-jan.be/evenement/l4-vaccinatie/
END:VEVENT
BEGIN:VEVENT
DTSTART;TZID=Europe/Brussels:20251016T084500
DTEND;TZID=Europe/Brussels:20251016T122000
DTSTAMP:20260420T000844
CREATED:20250910T070831Z
LAST-MODIFIED:20250910T070831Z
UID:5971-1760604300-1760617200@sint-jan.be
SUMMARY:L1: Vaccinatie
DESCRIPTION:
URL:https://sint-jan.be/evenement/l1-vaccinatie/
END:VEVENT
END:VCALENDAR