BEGIN:VCALENDAR
VERSION:2.0
PRODID:-//Basisschool St. Jan Teralfene - ECPv6.0.10//NONSGML v1.0//EN
CALSCALE:GREGORIAN
METHOD:PUBLISH
X-ORIGINAL-URL:https://sint-jan.be
X-WR-CALDESC:Evenementen voor Basisschool St. Jan Teralfene
REFRESH-INTERVAL;VALUE=DURATION:PT1H
X-Robots-Tag:noindex
X-PUBLISHED-TTL:PT1H
BEGIN:VTIMEZONE
TZID:Europe/Brussels
BEGIN:DAYLIGHT
TZOFFSETFROM:+0100
TZOFFSETTO:+0200
TZNAME:CEST
DTSTART:20260329T010000
END:DAYLIGHT
BEGIN:STANDARD
TZOFFSETFROM:+0200
TZOFFSETTO:+0100
TZNAME:CET
DTSTART:20261025T010000
END:STANDARD
END:VTIMEZONE
BEGIN:VEVENT
DTSTART;TZID=Europe/Brussels:20260330T093000
DTEND;TZID=Europe/Brussels:20260330T103000
DTSTAMP:20260419T220754
CREATED:20260127T090120Z
LAST-MODIFIED:20260127T090120Z
UID:6137-1774863000-1774866600@sint-jan.be
SUMMARY:1ste graad : Toneel van de gemeente
DESCRIPTION:Beste ouders \nGraag informeren wij jullie dat de leerlingen van onze 1ste graad vandaag worden getracteerd op een toneelvoorstelling\, aangeboden door de gemeente. \nDe voorstelling gaat door tijdens de schooluren en is volledig gratis. De kleuters hoeven hiervoor niets mee te brengen; alles wordt door de school en de gemeente georganiseerd. \nWe kijken er alvast naar uit om onze kleuters te laten genieten van deze fijne culturele ervaring. \nMet vriendelijke groeten \nSecretariaat
URL:https://sint-jan.be/evenement/1ste-graad-toneel-van-de-gemeente/
END:VEVENT
BEGIN:VEVENT
DTSTART;TZID=Europe/Brussels:20260330T133000
DTEND;TZID=Europe/Brussels:20260330T143000
DTSTAMP:20260419T220754
CREATED:20250610T135501Z
LAST-MODIFIED:20250908T123651Z
UID:5839-1774877400-1774881000@sint-jan.be
SUMMARY:1ste graad: Zwemmen
DESCRIPTION:Beste ouders\, \nIn de namiddag gaan de leerlingen zwemmen. Gelieve zwemgerief (badpak/zwembroek\, handdoek\, eventueel een zwembril) mee te geven met uw kind. \nDit bedraagt 6\,42. Het wordt verrekend via de factuur. \nAlvast bedankt! \nMet vriendelijke groet\,
URL:https://sint-jan.be/evenement/1ste-graad-zwemmen-23/
END:VEVENT
BEGIN:VEVENT
DTSTART;TZID=Europe/Brussels:20260331T103000
DTEND;TZID=Europe/Brussels:20260331T113000
DTSTAMP:20260419T220754
CREATED:20260127T090548Z
LAST-MODIFIED:20260127T090548Z
UID:6139-1774953000-1774956600@sint-jan.be
SUMMARY:2de graad: Toneel van de gemeente
DESCRIPTION:Beste ouders \nGraag informeren wij jullie dat de leerlingen van onze 2dee graad vandaag worden getracteerd op een toneelvoorstelling\, aangeboden door de gemeente. \nDe voorstelling gaat door tijdens de schooluren en is volledig gratis. De kleuters hoeven hiervoor niets mee te brengen; alles wordt door de school en de gemeente georganiseerd. \nWe kijken er alvast naar uit om onze kleuters te laten genieten van deze fijne culturele ervaring. \nMet vriendelijke groeten \nSecretariaat
URL:https://sint-jan.be/evenement/2de-graad-toneel-van-de-gemeente-3/
END:VEVENT
BEGIN:VEVENT
DTSTART;TZID=Europe/Brussels:20260402T090000
DTEND;TZID=Europe/Brussels:20260402T100000
DTSTAMP:20260419T220754
CREATED:20250604T092829Z
LAST-MODIFIED:20250604T092829Z
UID:5739-1775120400-1775124000@sint-jan.be
SUMMARY:Viering
DESCRIPTION:Beste ouders\, \nOnze paasviering komt eraan en zal dit jaar verzorgd worden door de leerlingen van het 4de leerjaar. \nSamen willen we stil staan bij de betekenis van Pasen en dit op een warme en verbindende manier vieren. \nJullie zijn van harte welkom! \nMet vriendelijke groeten\,Het schoolteam
URL:https://sint-jan.be/evenement/viering-4/
END:VEVENT
BEGIN:VEVENT
DTSTART;TZID=Europe/Brussels:20260403T080000
DTEND;TZID=Europe/Brussels:20260403T170000
DTSTAMP:20260419T220754
CREATED:20250604T093008Z
LAST-MODIFIED:20250604T093008Z
UID:5741-1775203200-1775235600@sint-jan.be
SUMMARY:Rapport: Midden
DESCRIPTION:Beste ouders\, \nBinnenkort krijgen de leerlingen hun tweede rapport: Rapport Midden mee naar huis.Dit rapport geeft een duidelijk beeld van de vorderingen\, leerprestaties en werkhouding van jullie kind in het midden van het schooljaar. \nMet vriendelijke groeten\,Het schoolteam
URL:https://sint-jan.be/evenement/rapport-midden/
END:VEVENT
BEGIN:VEVENT
DTSTART;VALUE=DATE:20260404
DTEND;VALUE=DATE:20260420
DTSTAMP:20260419T220754
CREATED:20250604T093042Z
LAST-MODIFIED:20250604T093042Z
UID:5743-1775260800-1776643199@sint-jan.be
SUMMARY:Paasvakantie
DESCRIPTION:
URL:https://sint-jan.be/evenement/paasvakantie-5/
END:VEVENT
BEGIN:VEVENT
DTSTART;TZID=Europe/Brussels:20260420T084500
DTEND;TZID=Europe/Brussels:20260420T152500
DTSTAMP:20260419T220754
CREATED:20250604T093347Z
LAST-MODIFIED:20250604T093347Z
UID:5747-1776674700-1776698700@sint-jan.be
SUMMARY:Instapdag voor nieuwe peuters
DESCRIPTION:Beste ouders\, \nBinnenkort verwelkomen we onze nieuwe peuters op hun eerste instapdag. Dit is een belangrijk en spannend moment voor kind én ouder. \nOp deze dag maken de peuters kennis met de juf\, de klasomgeving en de andere kinderen. We zorgen voor een warm en veilig onthaal. \nWe kijken ernaar uit om jullie en jullie kleintje te ontmoeten! \nMet vriendelijke groeten\,Het kleuterteam
URL:https://sint-jan.be/evenement/instapdag-voor-nieuwe-peuters-15/
END:VEVENT
BEGIN:VEVENT
DTSTART;TZID=Europe/Brussels:20260420T133000
DTEND;TZID=Europe/Brussels:20260420T143000
DTSTAMP:20260419T220754
CREATED:20250610T135604Z
LAST-MODIFIED:20250908T123549Z
UID:5841-1776691800-1776695400@sint-jan.be
SUMMARY:1ste graad: Zwemmen
DESCRIPTION:Beste ouders\, \nIn de namiddag gaan de leerlingen zwemmen. Gelieve zwemgerief (badpak/zwembroek\, handdoek\, eventueel een zwembril) mee te geven met uw kind. \nDit bedraagt 6\,42. Het wordt verrekend via de factuur. \nMet vriendelijke groet\,
URL:https://sint-jan.be/evenement/1ste-graad-zwemmen-24/
END:VEVENT
BEGIN:VEVENT
DTSTART;TZID=Europe/Brussels:20260421T133000
DTEND;TZID=Europe/Brussels:20260421T152500
DTSTAMP:20260419T220754
CREATED:20260331T092117Z
LAST-MODIFIED:20260331T092117Z
UID:6228-1776778200-1776785100@sint-jan.be
SUMMARY:3de gr.: NM : Behendigheidsparcours
DESCRIPTION:
URL:https://sint-jan.be/evenement/3de-gr-nm-behendigheidsparcours/
END:VEVENT
BEGIN:VEVENT
DTSTART;TZID=Europe/Brussels:20260424T090000
DTEND;TZID=Europe/Brussels:20260424T120000
DTSTAMP:20260419T220754
CREATED:20250604T093229Z
LAST-MODIFIED:20250604T093229Z
UID:5745-1777021200-1777032000@sint-jan.be
SUMMARY:L6: Vlaamse toetsen (deel 1)
DESCRIPTION:Beste ouders\, \nDit schooljaar nemen de leerlingen van het 6de leerjaar deel aan de Vlaamse toetsen\, een initiatief van de overheid om het leerproces en de onderwijskwaliteit te versterken. \nDe toetsen peilen naar de kennis en vaardigheden in vakken zoals taal en wiskunde. Ze vormen geen examen\, maar geven ons als school waardevolle feedback over het onderwijsaanbod. \nMet vriendelijke groeten\,Het schoolteam
URL:https://sint-jan.be/evenement/l6-vlaamse-toetsen-deel-1/
END:VEVENT
BEGIN:VEVENT
DTSTART;TZID=Europe/Brussels:20260427T090000
DTEND;TZID=Europe/Brussels:20260427T120000
DTSTAMP:20260419T220754
CREATED:20260324T141023Z
LAST-MODIFIED:20260324T141023Z
UID:6192-1777280400-1777291200@sint-jan.be
SUMMARY:L3 : Workshop 'Parfum maken'
DESCRIPTION:Beste ouders \n  \nVandaag krijgen de leerlingen van het 3de leerjaar een workshop ‘Parfum maken’. \n  \nDeze workshop kost € 8.48. Dit wordt verrekend via de schoolfactuur. \n  \nMet vriendelijke groet \n  \nSecretartiaat
URL:https://sint-jan.be/evenement/l3-workshop-parfum-maken/
END:VEVENT
BEGIN:VEVENT
DTSTART;TZID=Europe/Brussels:20260427T133000
DTEND;TZID=Europe/Brussels:20260427T143000
DTSTAMP:20260419T220754
CREATED:20250610T135643Z
LAST-MODIFIED:20250908T122112Z
UID:5843-1777296600-1777300200@sint-jan.be
SUMMARY:1ste graad: Zwemmen
DESCRIPTION:Beste ouders\, \nIn de namiddag gaan de leerlingen zwemmen. Gelieve zwemgerief (badpak/zwembroek\, handdoek\, eventueel een zwembril) mee te geven met uw kind. \nDit bedraagt 6\,42. Het wordt verrekend via de factuur. \nAlvast bedankt! \nMet vriendelijke groet\,
URL:https://sint-jan.be/evenement/1ste-graad-zwemmen-25/
END:VEVENT
BEGIN:VEVENT
DTSTART;VALUE=DATE:20260501
DTEND;VALUE=DATE:20260502
DTSTAMP:20260419T220754
CREATED:20250604T093511Z
LAST-MODIFIED:20250604T093511Z
UID:5749-1777593600-1777679999@sint-jan.be
SUMMARY:Dag van de Arbeid = GEEN SCHOOL
DESCRIPTION:
URL:https://sint-jan.be/evenement/dag-van-de-arbeid-geen-school-2/
END:VEVENT
BEGIN:VEVENT
DTSTART;TZID=Europe/Brussels:20260503T100000
DTEND;TZID=Europe/Brussels:20260503T110000
DTSTAMP:20260419T220754
CREATED:20251128T110921Z
LAST-MODIFIED:20251128T110921Z
UID:6062-1777802400-1777806000@sint-jan.be
SUMMARY:Eerste Communie
DESCRIPTION:
URL:https://sint-jan.be/evenement/eerste-communie-4/
END:VEVENT
BEGIN:VEVENT
DTSTART;TZID=Europe/Brussels:20260504T133000
DTEND;TZID=Europe/Brussels:20260504T143000
DTSTAMP:20260419T220754
CREATED:20250610T135743Z
LAST-MODIFIED:20250908T122040Z
UID:5845-1777901400-1777905000@sint-jan.be
SUMMARY:1ste graad: Zwemmen
DESCRIPTION:Beste ouders\, \nIn de namiddag gaan de leerlingen zwemmen. Gelieve zwemgerief (badpak/zwembroek\, handdoek\, eventueel een zwembril) mee te geven met uw kind. \nDit bedraagt 6\,42. Het wordt verrekend via de factuur. \nAlvast bedankt! \nMet vriendelijke groet\,
URL:https://sint-jan.be/evenement/1ste-graad-zwemmen-26/
END:VEVENT
BEGIN:VEVENT
DTSTART;TZID=Europe/Brussels:20260505T090000
DTEND;TZID=Europe/Brussels:20260505T120000
DTSTAMP:20260419T220754
CREATED:20250604T093631Z
LAST-MODIFIED:20250604T093631Z
UID:5751-1777971600-1777982400@sint-jan.be
SUMMARY:L4: Vlaamse toetsen (deel1)
DESCRIPTION:Beste ouders\, \nDit schooljaar nemen de leerlingen van het 4de leerjaar deel aan de Vlaamse toetsen\, een initiatief van de overheid om het leerproces en de onderwijskwaliteit te versterken. \nDe toetsen peilen naar de kennis en vaardigheden in vakken zoals taal en wiskunde. Ze vormen geen examen\, maar geven ons als school waardevolle feedback over het onderwijsaanbod. \nMet vriendelijke groeten\,Het schoolteam
URL:https://sint-jan.be/evenement/l4-vlaamse-toetsen-deel1/
END:VEVENT
BEGIN:VEVENT
DTSTART;TZID=Europe/Brussels:20260506T090000
DTEND;TZID=Europe/Brussels:20260506T122000
DTSTAMP:20260419T220754
CREATED:20260304T101813Z
LAST-MODIFIED:20260304T101813Z
UID:6166-1778058000-1778070000@sint-jan.be
SUMMARY:KS: mama-verwendag
DESCRIPTION:
URL:https://sint-jan.be/evenement/ks-mama-verwendag/
END:VEVENT
BEGIN:VEVENT
DTSTART;TZID=Europe/Brussels:20260507T090000
DTEND;TZID=Europe/Brussels:20260507T120000
DTSTAMP:20260419T220754
CREATED:20250604T093722Z
LAST-MODIFIED:20250604T093722Z
UID:5753-1778144400-1778155200@sint-jan.be
SUMMARY:L6: Vlaamse toetsen (deel 2)
DESCRIPTION:Beste ouders\, \nDit schooljaar nemen de leerlingen van het 6de leerjaar deel aan de Vlaamse toetsen\, een initiatief van de overheid om het leerproces en de onderwijskwaliteit te versterken. \nDe toetsen peilen naar de kennis en vaardigheden in vakken zoals taal en wiskunde. Ze vormen geen examen\, maar geven ons als school waardevolle feedback over het onderwijsaanbod. \nMet vriendelijke groeten\,Het schoolteam
URL:https://sint-jan.be/evenement/l6-vlaamse-toetsen-deel-2/
END:VEVENT
BEGIN:VEVENT
DTSTART;TZID=Europe/Brussels:20260507T090000
DTEND;TZID=Europe/Brussels:20260507T120000
DTSTAMP:20260419T220754
CREATED:20260324T141328Z
LAST-MODIFIED:20260324T141328Z
UID:6194-1778144400-1778155200@sint-jan.be
SUMMARY:L5 : Maritiemspel
DESCRIPTION:
URL:https://sint-jan.be/evenement/l5-maritiemspel/
END:VEVENT
BEGIN:VEVENT
DTSTART;TZID=Europe/Brussels:20260508T090000
DTEND;TZID=Europe/Brussels:20260508T120000
DTSTAMP:20260419T220754
CREATED:20250604T093758Z
LAST-MODIFIED:20250604T093758Z
UID:5755-1778230800-1778241600@sint-jan.be
SUMMARY:L4: Vlaamse toetsen (deel 2)
DESCRIPTION:Beste ouders\, \nDit schooljaar nemen de leerlingen van het 4de leerjaar deel aan de Vlaamse toetsen\, een initiatief van de overheid om het leerproces en de onderwijskwaliteit te versterken. \nDe toetsen peilen naar de kennis en vaardigheden in vakken zoals taal en wiskunde. Ze vormen geen examen\, maar geven ons als school waardevolle feedback over het onderwijsaanbod. \nMet vriendelijke groeten\,Het schoolteam
URL:https://sint-jan.be/evenement/l4-vlaamse-toetsen-deel-2-2/
END:VEVENT
BEGIN:VEVENT
DTSTART;TZID=Europe/Brussels:20260508T090000
DTEND;TZID=Europe/Brussels:20260508T120000
DTSTAMP:20260419T220754
CREATED:20260324T142408Z
LAST-MODIFIED:20260324T142408Z
UID:6196-1778230800-1778241600@sint-jan.be
SUMMARY:1ste gr: Naar de boerderij
DESCRIPTION:De leerlingen van het 1ste en 2de leerjaar gaan deze voormiddag naar ‘Ons dagelijks groen’ in Meldert. \nGelieve uw kind gepaste kledij en schoenen aan te doen. \n  \nDeze activiteit kost € 11\,50. Dit wordt verrekend via de schoolfactuur.
URL:https://sint-jan.be/evenement/1ste-gr-naar-de-boerderij/
END:VEVENT
BEGIN:VEVENT
DTSTART;TZID=Europe/Brussels:20260511T133000
DTEND;TZID=Europe/Brussels:20260511T143000
DTSTAMP:20260419T220754
CREATED:20250610T135827Z
LAST-MODIFIED:20250908T121851Z
UID:5847-1778506200-1778509800@sint-jan.be
SUMMARY:1ste graad: Zwemmen
DESCRIPTION:Beste ouders\, \nIn de namiddag gaan de leerlingen zwemmen. Gelieve zwemgerief (badpak/zwembroek\, handdoek\, eventueel een zwembril) mee te geven met uw kind. \nDit bedraagt 6\,42. Het wordt verrekend via de factuur. \nAlvast bedankt! \nMet vriendelijke groet\,
URL:https://sint-jan.be/evenement/1ste-graad-zwemmen-27/
END:VEVENT
BEGIN:VEVENT
DTSTART;TZID=Europe/Brussels:20260512T103000
DTEND;TZID=Europe/Brussels:20260512T150000
DTSTAMP:20260419T220754
CREATED:20260325T103837Z
LAST-MODIFIED:20260325T103907Z
UID:6222-1778581800-1778598000@sint-jan.be
SUMMARY:K2 + K3 : Naar het S.M.A.K. in Gent
DESCRIPTION:De kleuters van de 2de en 3de kleuterklas brengen vandaag een bezoek aan het S.M.A.K. in Gent. \n  \nDeze activiteit kost € 7\,32. Dit wordt verrekend via de schoolfactuur.
URL:https://sint-jan.be/evenement/k2-k3-naar-het-s-m-a-k-in-gent/
END:VEVENT
BEGIN:VEVENT
DTSTART;TZID=Europe/Brussels:20260512T133000
DTEND;TZID=Europe/Brussels:20260512T152500
DTSTAMP:20260419T220754
CREATED:20260324T142912Z
LAST-MODIFIED:20260324T142912Z
UID:6198-1778592600-1778599500@sint-jan.be
SUMMARY:2de en 3de gr. : Schoolrock
DESCRIPTION:De leerlingen van de 2de en 3de graad gaan in de namiddag naar de Bellekouter om samen met de andere scholen van de gemeente Affligem te genieten van Schoolrock. Een evenement van de gemeente.
URL:https://sint-jan.be/evenement/2de-en-3de-gr-schoolrock/
END:VEVENT
BEGIN:VEVENT
DTSTART;VALUE=DATE:20260514
DTEND;VALUE=DATE:20260515
DTSTAMP:20260419T220754
CREATED:20250604T093833Z
LAST-MODIFIED:20250604T093833Z
UID:5757-1778716800-1778803199@sint-jan.be
SUMMARY:O.H.Hemelvaart
DESCRIPTION:
URL:https://sint-jan.be/evenement/o-h-hemelvaart-2/
END:VEVENT
BEGIN:VEVENT
DTSTART;VALUE=DATE:20260515
DTEND;VALUE=DATE:20260516
DTSTAMP:20260419T220754
CREATED:20250604T093859Z
LAST-MODIFIED:20250604T093859Z
UID:5759-1778803200-1778889599@sint-jan.be
SUMMARY:Brugdag
DESCRIPTION:
URL:https://sint-jan.be/evenement/brugdag-3/
END:VEVENT
BEGIN:VEVENT
DTSTART;TZID=Europe/Brussels:20260518T084500
DTEND;TZID=Europe/Brussels:20260518T152500
DTSTAMP:20260419T220754
CREATED:20250604T094006Z
LAST-MODIFIED:20250604T094006Z
UID:5761-1779093900-1779117900@sint-jan.be
SUMMARY:Instapdag voor nieuwe peuters
DESCRIPTION:Beste ouders\, \nBinnenkort verwelkomen we onze nieuwe peuters op hun eerste instapdag. Dit is een belangrijk en spannend moment voor kind én ouder. \nOp deze dag maken de peuters kennis met de juf\, de klasomgeving en de andere kinderen. We zorgen voor een warm en veilig onthaal. \nWe kijken ernaar uit om jullie en jullie kleintje te ontmoeten! \nMet vriendelijke groeten\,Het kleuterteam
URL:https://sint-jan.be/evenement/instapdag-voor-nieuwe-peuters-16/
END:VEVENT
BEGIN:VEVENT
DTSTART;TZID=Europe/Brussels:20260518T133000
DTEND;TZID=Europe/Brussels:20260518T143000
DTSTAMP:20260419T220754
CREATED:20250610T135902Z
LAST-MODIFIED:20250908T121931Z
UID:5849-1779111000-1779114600@sint-jan.be
SUMMARY:1ste graad: Zwemmen
DESCRIPTION:Beste ouders\, \nIn de namiddag gaan de leerlingen zwemmen. Gelieve zwemgerief (badpak/zwembroek\, handdoek\, eventueel een zwembril) mee te geven met uw kind. \nDit bedraagt 6\,42. Het wordt verrekend via de factuur. \nAlvast bedankt! \nMet vriendelijke groet\,
URL:https://sint-jan.be/evenement/1ste-graad-zwemmen-28/
END:VEVENT
BEGIN:VEVENT
DTSTART;TZID=Europe/Brussels:20260519T090000
DTEND;TZID=Europe/Brussels:20260519T120000
DTSTAMP:20260419T220754
CREATED:20260324T143046Z
LAST-MODIFIED:20260324T143046Z
UID:6200-1779181200-1779192000@sint-jan.be
SUMMARY:L6: VM : Fietsexamen
DESCRIPTION:
URL:https://sint-jan.be/evenement/l6-vm-fietsexamen/
END:VEVENT
BEGIN:VEVENT
DTSTART;TZID=Europe/Brussels:20260521T080000
DTEND;TZID=Europe/Brussels:20260521T170000
DTSTAMP:20260419T220754
CREATED:20260324T143116Z
LAST-MODIFIED:20260324T143116Z
UID:6202-1779350400-1779382800@sint-jan.be
SUMMARY:Start vrije inschrijvingen
DESCRIPTION:
URL:https://sint-jan.be/evenement/start-vrije-inschrijvingen-2/
END:VEVENT
END:VCALENDAR